BEGIN:VCALENDAR
VERSION:2.0
PRODID:-//eventon.com NONSGML v1.0//EN
CALSCALE:GREGORIAN
METHOD:PUBLISH
BEGIN:VEVENT
UID:69e73133bf6af
DTSTAMP:20260421T081131Z
DTSTART:20240929T093000Z
DTEND:20240929T003000Z
LOCATION:Dojo de Duppigheim 1-3 Rue du Stade\,  67120 Duppigheim
SUMMARY:Stage collégial à Duppigheim
DESCRIPTION:Paul Matthis\,  Claude Stein et Stéphane Inquimbert à Duppigh
 eim Dimanche 29 septembre 2024 de 9h30 à 12h\nhttp://aikimatthis.com/event
 s/stage-collegial-a-duppigheim-3/
URL:http://aikimatthis.com/events/stage-collegial-a-duppigheim-3/
END:VEVENT
END:VCALENDAR