BEGIN:VCALENDAR
VERSION:2.0
PRODID:-//eventon.com NONSGML v1.0//EN
CALSCALE:GREGORIAN
METHOD:PUBLISH
BEGIN:VEVENT
UID:69e4e346d0e1a
DTSTAMP:20260419T141430Z
DTSTART:20250529
DTEND:20250530
LOCATION:CENTRE DE PRÉPARATION OMNISPORTS 361 Av. du Haut de Fol\,  88800 Vittel
SUMMARY:Stage d’Aïkido Interfédéral – Ascension 2025 à Vittel
DESCRIPTION:Rejoignez-nous pour un événement exceptionnel du 29 mai au 1e
 r juin 2025 au prestigieux Centre de Préparation Omnisport de Vittel ! Sou
 s la direction de Philippe Theis et Raphaël Estrampes\,  accompagnés des 
 experts Paul Matthis et Jean-Pierre Botzung\,  ce stage propose 4 jours int
 enses de pratique\,  d’échange et de progression[..]\nhttps://aikimatthi
 s.com/events/stage-daikido-interfederal-ascension-2025-a-vittel/
URL:https://aikimatthis.com/events/stage-daikido-interfederal-ascension-2025-a-vittel/
END:VEVENT
END:VCALENDAR